BEGIN:VCALENDAR
VERSION:2.0
PRODID:-//Colégio Alfa-Beta - ECPv6.1.2.2//NONSGML v1.0//EN
CALSCALE:GREGORIAN
METHOD:PUBLISH
X-WR-CALNAME:Colégio Alfa-Beta
X-ORIGINAL-URL:https://appy.place/alfabeta
X-WR-CALDESC:Events for Colégio Alfa-Beta
REFRESH-INTERVAL;VALUE=DURATION:PT1H
X-Robots-Tag:noindex
X-PUBLISHED-TTL:PT1H
BEGIN:VTIMEZONE
TZID:UTC
BEGIN:STANDARD
TZOFFSETFROM:+0000
TZOFFSETTO:+0000
TZNAME:UTC
DTSTART:20230101T000000
END:STANDARD
END:VTIMEZONE
BEGIN:VEVENT
DTSTART;TZID=UTC:20231205T080000
DTEND;TZID=UTC:20240105T170000
DTSTAMP:20260422T101428
CREATED:20170310T141522Z
LAST-MODIFIED:20220714T133941Z
UID:377-1701763200-1704474000@appy.place
SUMMARY:Small Press Project Event
DESCRIPTION:Lacus dolor quam mauris leo ipsum\, erat in\, tellus orci odio pulvinar. Scelerisque id\, iaculis montes nec sed velit ut. Vivamus tellus cum\, posuere in turpis magna turpis vitae\, sit nulla pretium. Et felis vestibulum amet suspendisse nullam ac\, elit nulla ridiculus pellentesque mauris tincidunt nisi\, erat dictumst\, tempus adipiscing feugiat viverra mauris laoreet suscipit\, curabitur vestibulum integer ligula. Purus netus urna at\, nunc pellentesque fringilla ligula suspendisse aenean donec\, quis penatibus. In at\, maecenas a et quisque mattis leo ut. Elementum pretium\, justo ridiculus vitae. Consequat turpis mus\, amet gravida. Erat magna massa. Justo curabitur aenean quis ut\, per tortor pellentesque nulla\, etiam volutpat\, id in. Molestie consequat aliquet sed commodo\, blandit sit vel varius erat.\nFaucibus integer\, vestibulum porttitor ultricies eu vestibulum ornare. Porttitor ac curabitur sed\, nulla neque sed convallis metus\, lacus suscipit dignissim pellentesque cras\, non magna laoreet\, arcu parturient non egestas mauris vestibulum mauris. Nulla ut leo amet\, vitae adipiscing hendrerit\, sed enim dui. Non aliquam\, sit sit nesciunt tellus. Mauris vestibulum odio\, imperdiet ut dolor rhoncus mauris urna\, nec sociosqu suspendisse consequat faucibus\, ornare aliquam morbi id convallis vestibulum\, in ut vulputate eget condimentum sem. Ultrices sed vestibulum a mi lobortis\, erat diam lectus\, scelerisque massa penatibus luctus\, suspendisse wisi arcu id rutrum. Vitae tincidunt aliquam eu mauris ullamcorper et\, volutpat est et at vitae\, tellus bibendum pellentesque eleifend aliquip\, magna sodales malesuada\, ipsum maecenas. Aliquam fermentum nec nullam neque\, amet vel fermentum vulputate netus nulla. Id vehicula scelerisque sit enim nulla\, egestas commodo arcu et nunc\, et mauris ante per duis. Velit id nunc proin augue. Neque lectus facilisi sed at nunc sed.\nTincidunt scelerisque ante\, massa nulla dui ut justo eget nulla\, mauris congue ornare vestibulum. Ut iaculis a mauris vel non sit\, mollis ligula morbi nascetur cras justo\, nec euismod eget velit interdum\, dolor posuere elit euismod metus\, pharetra venenatis ante vel eveniet pellentesque interdum. Adipiscing facilisis nibh sem blandit\, ipsum iaculis nec eget ridiculus placerat senectus\, turpis suspendisse id morbi suspendisse\, nunc id a aenean tellus\, odio vel ac tellus pretium felis ac. In sagittis vel\, in lacinia\, hac vel magna wisi eu congue\, vivamus nullam aliquam pellentesque sed hendrerit nec\, quisque a vestibulum veritatis. Vitae pellentesque morbi ac justo eu sit\, morbi vitae autem sit leo nulla\, nibh dolor fusce mollis donec aliquam. Tristique ante at bibendum.
URL:https://appy.place/alfabeta/event/small-press-project-event/
LOCATION:SUGAR\, 449 Troutman St\, Brooklyn\, NY 11237\, New York\, NY\, 11237\, United States
ORGANIZER;CN="Crown%20Art%20School":MAILTO:info@crownart.com
END:VEVENT
BEGIN:VEVENT
DTSTART;TZID=UTC:20240110T080000
DTEND;TZID=UTC:20240210T170000
DTSTAMP:20260422T101428
CREATED:20170310T141413Z
LAST-MODIFIED:20220714T133932Z
UID:375-1704873600-1707584400@appy.place
SUMMARY:The London Summer Intensive
DESCRIPTION:Et molestie sem vivamus\, metus suspendisse velit nonummy\, nulla non placerat aut non\, nec a cum at. Vitae molestie pede vel habitant nunc nunc\, dignissim libero purus felis vitae\, ipsum et pede proin. Pede sodales tempus luctus. Lorem pellentesque aliquet\, odio nibh mi fermentum elit lorem metus. Interdum quisque at lacinia. Elit enim sit ipsum ut ultrices tellus. Suscipit neque lorem egestas commodo imperdiet\, amet sagittis ultricies placerat lacus\, pede morbi massa sollicitudin\, vitae iaculis. Vehicula vulputate lacus commodo mauris vitae\, sagittis pellentesque sem eu\, ipsum tristique dui id nam. Morbi nullam arcu. Wisi molestie. Sed in vivamus platea\, placerat tellus\, laborum augue auctor\, eros a vitae\, parturient est mauris eget gravida risus.\nNibh eleifend ipsam a\, ac sit quis nam suspendisse\, sed sapien eleifend purus lorem mattis\, nullam elit erat nec ipsum. Lacus vel aliquam purus wisi arcu quis\, ipsum velit massa velit elit\, et orci praesent congue voluptas. Justo justo fugiat\, sit lorem\, feugiat orci\, nobis rhoncus eget maecenas suspendisse. Mollis porttitor lacus libero arcu et\, semper ac eros vehicula ut\, dictumst eu massa sed sodales elit orci\, eleifend nunc ipsum et praesent\, sapien cras integer. Ac ligula nam\, nec id nonummy\, sodales lorem ornare nunc viverra. Egestas eu magna eros vel rutrum\, eget ut rhoncus tortor elit amet nullam\, sed imperdiet placerat in praesent\, aliquam dignissim luctus\, egestas diam ut mi tortor sem.\nQuis erat vehicula wisi leo ante\, lacus eros justo consequat iaculis tortor\, nec pede justo\, eros mattis arcu\, id dui. Lacus ut mauris hac mauris\, maecenas morbi vestibulum porta cras dis elementum\, tempor sed consectetuer morbi. Bibendum scelerisque sodales tristique elementum diam.
URL:https://appy.place/alfabeta/event/the-london-summer-intensive/
LOCATION:Strand Gallery\, 32 John Adam St\, London WC2N 6BP\, London\, United Kingdom
ORGANIZER;CN="Crown%20Art%20School":MAILTO:info@crownart.com
END:VEVENT
END:VCALENDAR